BEGIN:VCALENDAR
VERSION:2.0
PRODID:-//EMMAÜS BREST - ECPv6.15.11//NONSGML v1.0//EN
CALSCALE:GREGORIAN
METHOD:PUBLISH
X-ORIGINAL-URL:https://www.emmaus-brest.fr
X-WR-CALDESC:Évènements pour EMMAÜS BREST
REFRESH-INTERVAL;VALUE=DURATION:PT1H
X-Robots-Tag:noindex
X-PUBLISHED-TTL:PT1H
BEGIN:VTIMEZONE
TZID:Europe/Paris
BEGIN:DAYLIGHT
TZOFFSETFROM:+0100
TZOFFSETTO:+0200
TZNAME:CEST
DTSTART:20240331T010000
END:DAYLIGHT
BEGIN:STANDARD
TZOFFSETFROM:+0200
TZOFFSETTO:+0100
TZNAME:CET
DTSTART:20241027T010000
END:STANDARD
BEGIN:DAYLIGHT
TZOFFSETFROM:+0100
TZOFFSETTO:+0200
TZNAME:CEST
DTSTART:20250330T010000
END:DAYLIGHT
BEGIN:STANDARD
TZOFFSETFROM:+0200
TZOFFSETTO:+0100
TZNAME:CET
DTSTART:20251026T010000
END:STANDARD
BEGIN:DAYLIGHT
TZOFFSETFROM:+0100
TZOFFSETTO:+0200
TZNAME:CEST
DTSTART:20260329T010000
END:DAYLIGHT
BEGIN:STANDARD
TZOFFSETFROM:+0200
TZOFFSETTO:+0100
TZNAME:CET
DTSTART:20261025T010000
END:STANDARD
END:VTIMEZONE
BEGIN:VEVENT
DTSTART;TZID=Europe/Paris:20250814T120000
DTEND;TZID=Europe/Paris:20250815T180000
DTSTAMP:20260423T195421
CREATED:20250811T165443Z
LAST-MODIFIED:20250811T165443Z
UID:2698-1755172800-1755280800@www.emmaus-brest.fr
SUMMARY:Fermeture des dépôts - Jeudi 14 et vendredi 15 août 2025
DESCRIPTION:L’ensemble de nos dépôts à Brest\, Morlaix\, Plougastel-Daoulas et le Relecq-Kerhuon seront exceptionnellement fermés du  jeudi 14  à partir de 12h jusqu’au vendredi 15 aout. Merci de ne pas déposer vos dons sur la voie publique ou privée\, sous peine d’une amende forfaitaire. En vous remerciant de votre compréhension.
URL:https://www.emmaus-brest.fr/calendrier/fermeture-des-depots-jeudi-14-et-vendredi-15-aout-2025/
END:VEVENT
END:VCALENDAR