BEGIN:VCALENDAR
VERSION:2.0
PRODID:-//EMMAÜS BREST - ECPv6.15.11//NONSGML v1.0//EN
CALSCALE:GREGORIAN
METHOD:PUBLISH
X-WR-CALNAME:EMMAÜS BREST
X-ORIGINAL-URL:https://www.emmaus-brest.fr
X-WR-CALDESC:Évènements pour EMMAÜS BREST
REFRESH-INTERVAL;VALUE=DURATION:PT1H
X-Robots-Tag:noindex
X-PUBLISHED-TTL:PT1H
BEGIN:VTIMEZONE
TZID:Europe/Paris
BEGIN:DAYLIGHT
TZOFFSETFROM:+0100
TZOFFSETTO:+0200
TZNAME:CEST
DTSTART:20240331T010000
END:DAYLIGHT
BEGIN:STANDARD
TZOFFSETFROM:+0200
TZOFFSETTO:+0100
TZNAME:CET
DTSTART:20241027T010000
END:STANDARD
BEGIN:DAYLIGHT
TZOFFSETFROM:+0100
TZOFFSETTO:+0200
TZNAME:CEST
DTSTART:20250330T010000
END:DAYLIGHT
BEGIN:STANDARD
TZOFFSETFROM:+0200
TZOFFSETTO:+0100
TZNAME:CET
DTSTART:20251026T010000
END:STANDARD
BEGIN:DAYLIGHT
TZOFFSETFROM:+0100
TZOFFSETTO:+0200
TZNAME:CEST
DTSTART:20260329T010000
END:DAYLIGHT
BEGIN:STANDARD
TZOFFSETFROM:+0200
TZOFFSETTO:+0100
TZNAME:CET
DTSTART:20261025T010000
END:STANDARD
BEGIN:DAYLIGHT
TZOFFSETFROM:+0100
TZOFFSETTO:+0200
TZNAME:CEST
DTSTART:20270328T010000
END:DAYLIGHT
BEGIN:STANDARD
TZOFFSETFROM:+0200
TZOFFSETTO:+0100
TZNAME:CET
DTSTART:20271031T010000
END:STANDARD
END:VTIMEZONE
BEGIN:VEVENT
DTSTART;TZID=Europe/Paris:20251206T100000
DTEND;TZID=Europe/Paris:20251207T173000
DTSTAMP:20260423T122010
CREATED:20251113T163201Z
LAST-MODIFIED:20251113T164002Z
UID:2731-1765015200-1765128600@www.emmaus-brest.fr
SUMMARY:La Grande Vente d'Hiver d'Emmaüs en Décembre à Emmaüs Brest : Samedi 6 (10h - 17h30) et Dimanche 7 (13h30 - 17h30)
DESCRIPTION: 
URL:https://www.emmaus-brest.fr/calendrier/la-grande-vente-dhiver-demmaus-en-decembre-a-emmaus-brest-samedi-6-10h-17h30-et-dimanche-7-13h30-17h30/
LOCATION:Magasin de BREST\, 190 Rue de Gouesnou\, Brest\, 29200\, France
END:VEVENT
BEGIN:VEVENT
DTSTART;VALUE=DATE:20251224
DTEND;VALUE=DATE:20251226
DTSTAMP:20260423T122010
CREATED:20251223T162339Z
LAST-MODIFIED:20251223T162339Z
UID:2742-1766534400-1766707199@www.emmaus-brest.fr
SUMMARY:Fermeture de fin d'année
DESCRIPTION:L’ensemble des site de la communauté seront fermés (Brest\, Morlaix\, Plougastel et le relecq Kerhuon) les 24 et 25 décembre. \nLes compagnes compagnons\, bénévoles et salarié es vous souhaitent de bonnes fêtes de fin d’année .
URL:https://www.emmaus-brest.fr/calendrier/fermeture-de-fin-dannee/
END:VEVENT
BEGIN:VEVENT
DTSTART;VALUE=DATE:20251228
DTEND;VALUE=DATE:20260106
DTSTAMP:20260423T122010
CREATED:20251223T162747Z
LAST-MODIFIED:20251223T162747Z
UID:2744-1766880000-1767657599@www.emmaus-brest.fr
SUMMARY:Fermeture exceptionnelle
DESCRIPTION:Les sites de ventes de Brest \, Morlaix et Plougastel seront fermés du 28 décembre au 5 janvier . \nLe dépôt au Relecq-Kerhuon reste ouvert pour l’accueil des donateurs.
URL:https://www.emmaus-brest.fr/calendrier/fermeture-exceptionnelle/
END:VEVENT
END:VCALENDAR